BEGIN:VCALENDAR
VERSION:2.0
PRODID:-//Szkoła Podstawowa im. Bohaterów Września w Radziejach - ECPv6.15.20//NONSGML v1.0//EN
CALSCALE:GREGORIAN
METHOD:PUBLISH
X-WR-CALNAME:Szkoła Podstawowa im. Bohaterów Września w Radziejach
X-ORIGINAL-URL:https://sp.radzieje.pl
X-WR-CALDESC:Wydarzenia dla Szkoła Podstawowa im. Bohaterów Września w Radziejach
REFRESH-INTERVAL;VALUE=DURATION:PT1H
X-Robots-Tag:noindex
X-PUBLISHED-TTL:PT1H
BEGIN:VTIMEZONE
TZID:Europe/Warsaw
BEGIN:DAYLIGHT
TZOFFSETFROM:+0100
TZOFFSETTO:+0200
TZNAME:CEST
DTSTART:20190331T010000
END:DAYLIGHT
BEGIN:STANDARD
TZOFFSETFROM:+0200
TZOFFSETTO:+0100
TZNAME:CET
DTSTART:20191027T010000
END:STANDARD
BEGIN:DAYLIGHT
TZOFFSETFROM:+0100
TZOFFSETTO:+0200
TZNAME:CEST
DTSTART:20200329T010000
END:DAYLIGHT
BEGIN:STANDARD
TZOFFSETFROM:+0200
TZOFFSETTO:+0100
TZNAME:CET
DTSTART:20201025T010000
END:STANDARD
BEGIN:DAYLIGHT
TZOFFSETFROM:+0100
TZOFFSETTO:+0200
TZNAME:CEST
DTSTART:20210328T010000
END:DAYLIGHT
BEGIN:STANDARD
TZOFFSETFROM:+0200
TZOFFSETTO:+0100
TZNAME:CET
DTSTART:20211031T010000
END:STANDARD
END:VTIMEZONE
BEGIN:VEVENT
DTSTART;TZID=Europe/Warsaw:20200901T090000
DTEND;TZID=Europe/Warsaw:20200901T110000
DTSTAMP:20260425T213856
CREATED:20200826T214545Z
LAST-MODIFIED:20200830T113037Z
UID:280-1598950800-1598958000@sp.radzieje.pl
SUMMARY:Początek roku szkolnego 2020/2021
DESCRIPTION:Rozpoczęcie roku szkolnego odbędzie się 1 września 2020 r. w 2 turach:– godz. 9.00 – klasy 4-8;– godz. 10.00 – klasy 1-3 i oddział przedszkolny. \nRozpoczęcie nie będzie miało uroczystego charakteru\, będzie służyło przekazaniu informacji o zasadach pracy szkoły\, obowiązkach wynikających z zagrożenia epidemiologicznego. \nW związku z obowiązującym reżimem sanitarnym spotkania odbędą się bez udziału rodziców.Wyjątek stanowią rodzice uczniów klas młodszych\, którzy w przypadku zebrania na dworze będą mogli w nim uczestniczyć. \nBezwzględnie jednak muszą przestrzegać obowiązku posiadania maseczki ochronnej i nieprzekraczania wyznaczonego dla nich miejsca.W przypadku spotkania w sali gimnastycznej (w razie niepogody) rodzice nie będą mogli w nim uczestniczyć. \nW celu ograniczenia liczby osób dorosłych proszę\, aby 1 ucznia reprezentował tylko 1 rodzic. \n 
URL:https://sp.radzieje.pl/wydarzenia/poczatek-roku-szkolnego-2020-2021/
LOCATION:Radzieje\, Poland
END:VEVENT
END:VCALENDAR